View In:
ArcGIS JavaScript
ArcGIS Online Map Viewer
ArcGIS Earth
Service Description:
Name: 0600NUK_MSL_GCP_dsm_tif_new
Description: N/A
Single Fused Map Cache: true
Tile Info:
- Height: 256
- Width: 256
- DPI: 96
-
Levels of Detail: 22
-
Level ID: 0
[ Start Tile, End Tile ]
- Resolution: 66145.9656252646
- Scale: 2.5000000000000003E8
-
Level ID: 1
[ Start Tile, End Tile ]
- Resolution: 33072.9828126323
- Scale: 1.2500000000000001E8
-
Level ID: 2
[ Start Tile, End Tile ]
- Resolution: 16536.49140631615
- Scale: 6.250000000000001E7
-
Level ID: 3
[ Start Tile, End Tile ]
- Resolution: 8268.245703158074
- Scale: 3.1250000000000004E7
-
Level ID: 4
[ Start Tile, End Tile ]
- Resolution: 4134.122851579037
- Scale: 1.5625000000000002E7
-
Level ID: 5
[ Start Tile, End Tile ]
- Resolution: 2067.0614257895186
- Scale: 7812500.000000001
-
Level ID: 6
[ Start Tile, End Tile ]
- Resolution: 1033.5307128947593
- Scale: 3906250.0000000005
-
Level ID: 7
[ Start Tile, End Tile ]
- Resolution: 516.7653564473796
- Scale: 1953125.0000000002
-
Level ID: 8
[ Start Tile, End Tile ]
- Resolution: 258.3826782236898
- Scale: 976562.5000000001
-
Level ID: 9
[ Start Tile, End Tile ]
- Resolution: 129.1913391118449
- Scale: 488281.25000000006
-
Level ID: 10
[ Start Tile, End Tile ]
- Resolution: 64.59566955592246
- Scale: 244140.62500000003
-
Level ID: 11
[ Start Tile, End Tile ]
- Resolution: 32.29783477796123
- Scale: 122070.31250000001
-
Level ID: 12
[ Start Tile, End Tile ]
- Resolution: 16.148917388980614
- Scale: 61035.15625000001
-
Level ID: 13
[ Start Tile, End Tile ]
- Resolution: 8.074458694490307
- Scale: 30517.578125000004
-
Level ID: 14
[ Start Tile, End Tile ]
- Resolution: 4.0372293472451535
- Scale: 15258.789062500002
-
Level ID: 15
[ Start Tile, End Tile ]
- Resolution: 2.0186146736225767
- Scale: 7629.394531250001
-
Level ID: 16
[ Start Tile, End Tile ]
- Resolution: 1.0093073368112884
- Scale: 3814.6972656250005
-
Level ID: 17
[ Start Tile, End Tile ]
- Resolution: 0.5046536684056442
- Scale: 1907.3486328125002
-
Level ID: 18
[ Start Tile, End Tile ]
- Resolution: 0.2523268342028221
- Scale: 953.6743164062501
-
Level ID: 19
[ Start Tile, End Tile ]
- Resolution: 0.12616341710141105
- Scale: 476.83715820312506
-
Level ID: 20
[ Start Tile, End Tile ]
- Resolution: 0.06308170855070552
- Scale: 238.41857910156253
-
Level ID: 21
[ Start Tile, End Tile ]
- Resolution: 0.03154085427535276
- Scale: 119.20928955078126
- Format: LERC
- Compression Quality: 0.0
- LERC Error: 0.0
- Origin: X: -5120900.0
Y: 9998100.0
- Spatial Reference: 32622
(32622)
Storage Info:
- Storage Format: esriMapCacheStorageModeCompactV2
- Packet Size: 128
Extent:
XMin: 463320.81820315495
YMin: 7113756.121620305
XMax: 469898.7579848426
YMax: 7120060.602195425
Spatial Reference: 32622
(32622)
Initial Extent:
XMin: 463320.81820315495
YMin: 7113756.121620305
XMax: 469898.7579848426
YMax: 7120060.602195425
Spatial Reference: 32622
(32622)
Full Extent:
XMin: 463320.81820315495
YMin: 7113756.121620305
XMax: 469898.7579848426
YMax: 7120060.602195425
Spatial Reference: 32622
(32622)
Pixel Size X: 0.03154085427535276
Pixel Size Y: 0.03154085427535276
Band Count: 1
Pixel Type:
RasterFunction Infos: {"rasterFunctionInfos": null}
Mensuration Capabilities:
Has Histograms: false
Has Colormap: false
Has Multi Dimensions : false
Rendering Rule:
Min Scale: 2.5000000000000003E8
Max Scale: 119.20928955078126
Min LOD: 0
Max LOD: 21
Copyright Text: N/A
Service Data Type: esriImageServiceDataTypeElevation
Min Values: N/A
Max Values: N/A
Mean Values: N/A
Standard Deviation Values: N/A
Object ID Field: N/A
Fields:
None
Default Mosaic Method: N/A
Allowed Mosaic Methods: N/A
SortField: N/A
SortValue: N/A
Mosaic Operator: N/A
Default Compression Quality: null
Default Resampling Method: N/A
Max Record Count: null
Max Image Height: null
Max Image Width: null
Max Download Image Count: null
Max Mosaic Image Count: null
Allow Raster Function: null
Allow Copy: null
Allow Analysis: null
Allow Compute TiePoints: false
Supports Statistics: false
Supports Advanced Queries: false
Use StandardizedQueries: false
Raster Type Infos:
None
Has Raster Attribute Table: null
Edit Fields Info: N/A
Ownership Based AccessControl For Rasters: N/A
Child Resources:
Info