{
 "version": 1.0,
 "tileBundlesPath": "./tile",
 "tileInfo": {
  "spatialReference": {
   "wkid": 32622,
   "latestWkid": 32622
  },
  "origin": {
   "x": -5120900,
   "y": 9998100
  },
  "rows": 256,
  "cols": 256,
  "dpi": 96,
  "lods": [
   {
    "level": 0,
    "resolution": 66145.9656252646,
    "scale": 2.5000000000000003E8
   },
   {
    "level": 1,
    "resolution": 33072.9828126323,
    "scale": 1.2500000000000001E8
   },
   {
    "level": 2,
    "resolution": 16536.49140631615,
    "scale": 6.250000000000001E7
   },
   {
    "level": 3,
    "resolution": 8268.245703158074,
    "scale": 3.1250000000000004E7
   },
   {
    "level": 4,
    "resolution": 4134.122851579037,
    "scale": 1.5625000000000002E7
   },
   {
    "level": 5,
    "resolution": 2067.0614257895186,
    "scale": 7812500.000000001
   },
   {
    "level": 6,
    "resolution": 1033.5307128947593,
    "scale": 3906250.0000000005
   },
   {
    "level": 7,
    "resolution": 516.7653564473796,
    "scale": 1953125.0000000002
   },
   {
    "level": 8,
    "resolution": 258.3826782236898,
    "scale": 976562.5000000001
   },
   {
    "level": 9,
    "resolution": 129.1913391118449,
    "scale": 488281.25000000006
   },
   {
    "level": 10,
    "resolution": 64.59566955592246,
    "scale": 244140.62500000003
   },
   {
    "level": 11,
    "resolution": 32.29783477796123,
    "scale": 122070.31250000001
   },
   {
    "level": 12,
    "resolution": 16.148917388980614,
    "scale": 61035.15625000001
   },
   {
    "level": 13,
    "resolution": 8.074458694490307,
    "scale": 30517.578125000004
   },
   {
    "level": 14,
    "resolution": 4.0372293472451535,
    "scale": 15258.789062500002
   },
   {
    "level": 15,
    "resolution": 2.0186146736225767,
    "scale": 7629.394531250001
   },
   {
    "level": 16,
    "resolution": 1.0093073368112884,
    "scale": 3814.6972656250005
   },
   {
    "level": 17,
    "resolution": 0.5046536684056442,
    "scale": 1907.3486328125002
   },
   {
    "level": 18,
    "resolution": 0.2523268342028221,
    "scale": 953.6743164062501
   },
   {
    "level": 19,
    "resolution": 0.12616341710141105,
    "scale": 476.83715820312506
   },
   {
    "level": 20,
    "resolution": 0.06308170855070552,
    "scale": 238.41857910156253
   },
   {
    "level": 21,
    "resolution": 0.03154085427535276,
    "scale": 119.20928955078126
   }
  ],
  "format": "LERC",
  "compressionQuality": 0,
  "bandCount": 1,
  "lercError": 0,
  "storageFormat": "esriMapCacheStorageModeCompactV2",
  "packetSize": 128
 },
 "storageInfo": {
  "packetSize": 128,
  "storageFormat": "esriMapCacheStorageModeCompactV2"
 },
 "tileImageInfo": {
  "format": "LERC",
  "compressionQuality": 0,
  "bandCount": 1,
  "lercError": 0.05
 },
 "name": "0600NUK_MSL_GCP_dsm_tif_new",
 "minScale": 2.5000000000000003E8,
 "maxScale": 119.20928955078126,
 "minLOD": 0,
 "maxLOD": 21,
 "spatialReference": {
  "wkid": 32622,
  "latestWkid": 32622
 },
 "units": "esriMeters",
 "serviceDescription": "",
 "resampling": true,
 "exportTilesAllowed": false,
 "initialExtent": {
  "xmin": 463320.81820315495,
  "ymin": 7113756.121620305,
  "xmax": 469898.7579848426,
  "ymax": 7120060.602195425,
  "spatialReference": {
   "wkid": 32622,
   "latestWkid": 32622
  }
 },
 "fullExtent": {
  "xmin": 463320.81820315495,
  "ymin": 7113756.121620305,
  "xmax": 469898.7579848426,
  "ymax": 7120060.602195425,
  "spatialReference": {
   "wkid": 32622,
   "latestWkid": 32622
  }
 },
 "currentVersion": 11.1,
 "mapName": "0600NUK_MSL_GCP_dsm_tif_new",
 "singleFusedMapCache": true,
 "type": "ImageServer",
 "capabilities": "Image,TilesOnly,Tilemap",
 "datasetFormat": "Cache/LERC",
 "compressionType": "LERC",
 "serviceDataType": "esriImageServiceDataTypeElevation",
 "cacheType": "Elevation",
 "blockWidth": 256,
 "blockHeight": 256,
 "bandCount": 1,
 "pixelSizeX": 0.03154085427535276,
 "pixelSizeY": 0.03154085427535276,
 "minPixelSize": 0.03154085427535276,
 "maxPixelSize": 66145.9656252646
}
