View In:
ArcGIS JavaScript
ArcGIS Online Map Viewer
ArcGIS Earth
ArcGIS Pro
Service Description:
Map Name: Map1
Legend
All Layers and Tables
Layers:
Description:
Service Item Id: 0ad314d025734dafb572377182ca8cda
Copyright Text:
Spatial Reference:
32622
(32622)
Single Fused Map Cache: true
Tile Info:
- Height: 256
- Width: 256
- DPI: 96
-
Levels of Detail: 22
-
Level ID: 0
[ Start Tile, End Tile ]
- Resolution: 66145.9656252646
- Scale: 2.5000000000000003E8
-
Level ID: 1
[ Start Tile, End Tile ]
- Resolution: 33072.9828126323
- Scale: 1.2500000000000001E8
-
Level ID: 2
[ Start Tile, End Tile ]
- Resolution: 16536.49140631615
- Scale: 6.250000000000001E7
-
Level ID: 3
[ Start Tile, End Tile ]
- Resolution: 8268.245703158074
- Scale: 3.1250000000000004E7
-
Level ID: 4
[ Start Tile, End Tile ]
- Resolution: 4134.122851579037
- Scale: 1.5625000000000002E7
-
Level ID: 5
[ Start Tile, End Tile ]
- Resolution: 2067.0614257895186
- Scale: 7812500.000000001
-
Level ID: 6
[ Start Tile, End Tile ]
- Resolution: 1033.5307128947593
- Scale: 3906250.0000000005
-
Level ID: 7
[ Start Tile, End Tile ]
- Resolution: 516.7653564473796
- Scale: 1953125.0000000002
-
Level ID: 8
[ Start Tile, End Tile ]
- Resolution: 258.3826782236898
- Scale: 976562.5000000001
-
Level ID: 9
[ Start Tile, End Tile ]
- Resolution: 129.1913391118449
- Scale: 488281.25000000006
-
Level ID: 10
[ Start Tile, End Tile ]
- Resolution: 64.59566955592246
- Scale: 244140.62500000003
-
Level ID: 11
[ Start Tile, End Tile ]
- Resolution: 32.29783477796123
- Scale: 122070.31250000001
-
Level ID: 12
[ Start Tile, End Tile ]
- Resolution: 16.148917388980614
- Scale: 61035.15625000001
-
Level ID: 13
[ Start Tile, End Tile ]
- Resolution: 8.074458694490307
- Scale: 30517.578125000004
-
Level ID: 14
[ Start Tile, End Tile ]
- Resolution: 4.0372293472451535
- Scale: 15258.789062500002
-
Level ID: 15
[ Start Tile, End Tile ]
- Resolution: 2.0186146736225767
- Scale: 7629.394531250001
-
Level ID: 16
[ Start Tile, End Tile ]
- Resolution: 1.0093073368112884
- Scale: 3814.6972656250005
-
Level ID: 17
[ Start Tile, End Tile ]
- Resolution: 0.5046536684056442
- Scale: 1907.3486328125002
-
Level ID: 18
[ Start Tile, End Tile ]
- Resolution: 0.2523268342028221
- Scale: 953.6743164062501
-
Level ID: 19
[ Start Tile, End Tile ]
- Resolution: 0.12616341710141105
- Scale: 476.83715820312506
-
Level ID: 20
[ Start Tile, End Tile ]
- Resolution: 0.06308170855070552
- Scale: 238.41857910156253
-
Level ID: 21
[ Start Tile, End Tile ]
- Resolution: 0.03154085427535276
- Scale: 119.20928955078126
- Format: LERC
- Compression Quality: 0.0
- Origin: X: -5120900.0
Y: 9998100.0
- Spatial Reference: 32622
(32622)
Storage Info:
- Storage Format: esriMapCacheStorageModeCompactV2
- Packet Size: 128
Initial Extent:
XMin: 460436.479211247
YMin: 7112803.84806215
XMax: 472782.91417361744
YMax: 7121013.111670412
Spatial Reference: 32622
(32622)
Full Extent:
XMin: 463320.81140000006
YMin: 7113756.12223
XMax: 469898.75588000007
YMax: 7120060.58767
Spatial Reference: 32622
(32622)
Units: esriMeters
Supported Image Format Types: PNG32,PNG24,PNG,JPG,DIB,TIFF,EMF,PS,PDF,GIF,SVG,SVGZ,BMP
Document Info:
Title: Map1
Author:
Comments:
Subject:
Category:
Keywords:
AntialiasingMode: Fast
TextAntialiasingMode: Force
Supports Dynamic Layers: false
MaxRecordCount: 1000
MaxImageHeight: 4096
MaxImageWidth: 4096
Supported Query Formats: JSON, geoJSON, PBF
Supports Query Data Elements: true
Min Scale: 250000000
Max Scale: 119
Min LOD: 0
Max LOD: 21
Supports Datum Transformation: true
Child Resources:
Info
Supported Operations:
QueryLegends
Return Updates