View In:
ArcGIS JavaScript
ArcGIS Online Map Viewer
ArcGIS Earth
ArcGIS Pro
Service Description:
Map Name: Map
Legend
All Layers and Tables
Layers:
Description:
Service Item Id: d1b75322e74f493cad0fba590ff7dcf6
Copyright Text:
Spatial Reference:
32622
(32622)
Single Fused Map Cache: true
Tile Info:
- Height: 256
- Width: 256
- DPI: 96
-
Levels of Detail: 23
-
Level ID: 16
[ Start Tile, End Tile ]
- Resolution: 1.0093073368112884
- Scale: 3814.697265625
-
Level ID: 17
[ Start Tile, End Tile ]
- Resolution: 0.5046536684056442
- Scale: 1907.3486328125
-
Level ID: 18
[ Start Tile, End Tile ]
- Resolution: 0.2523268342028221
- Scale: 953.67431640625
-
Level ID: 19
[ Start Tile, End Tile ]
- Resolution: 0.12616341710141105
- Scale: 476.837158203125
-
Level ID: 20
[ Start Tile, End Tile ]
- Resolution: 0.06308170855070565
- Scale: 238.418579101563
-
Level ID: 21
[ Start Tile, End Tile ]
- Resolution: 0.03154085427535269
- Scale: 119.209289550781
-
Level ID: 22
[ Start Tile, End Tile ]
- Resolution: 0.015770427137676346
- Scale: 59.6046447753905
- Format: MIXED
- Compression Quality: 75.0
- Origin: X: -5120900.0
Y: 9998100.0
- Spatial Reference: 32622
(32622)
Storage Info:
- Storage Format: esriMapCacheStorageModeCompactV2
- Packet Size: 128
Initial Extent:
XMin: 494054.91835000005
YMin: 7675972.1202300005
XMax: 500629.60803000006
YMax: 7684766.93431
Spatial Reference: 32622
(32622)
Full Extent:
XMin: 494054.91835000005
YMin: 7675972.1202300005
XMax: 500629.60803000006
YMax: 7684766.93431
Spatial Reference: 32622
(32622)
Units: esriMeters
Supported Image Format Types:
Document Info:
Supports Dynamic Layers: false
Resampling: true
MaxRecordCount: 0
MaxImageHeight: 0
MaxImageWidth: 0
Supported Query Formats:
Supports Query Data Elements:
Min Scale: 0
Max Scale: 0
Min LOD: 0
Max LOD: 22
Child Resources:
Info
Supported Operations:
QueryLegends
Return Updates