View In:
ArcGIS JavaScript
ArcGIS Online Map Viewer
ArcGIS Earth
Service Description:
Name: 1200ILU_DRONE_MSL_GCP_2023_dsm_tif
Description: N/A
Single Fused Map Cache: true
Tile Info:
- Height: 256
- Width: 256
- DPI: 96
-
Levels of Detail: 23
-
Level ID: 16
[ Start Tile, End Tile ]
- Resolution: 1.0093073368112884
- Scale: 3814.697265625
-
Level ID: 17
[ Start Tile, End Tile ]
- Resolution: 0.5046536684056442
- Scale: 1907.3486328125
-
Level ID: 18
[ Start Tile, End Tile ]
- Resolution: 0.2523268342028221
- Scale: 953.67431640625
-
Level ID: 19
[ Start Tile, End Tile ]
- Resolution: 0.12616341710141105
- Scale: 476.837158203125
-
Level ID: 20
[ Start Tile, End Tile ]
- Resolution: 0.06308170855070565
- Scale: 238.418579101563
-
Level ID: 21
[ Start Tile, End Tile ]
- Resolution: 0.03154085427535269
- Scale: 119.209289550781
-
Level ID: 22
[ Start Tile, End Tile ]
- Resolution: 0.01577042713767638
- Scale: 59.604644775390625
- Format: LERC
- Compression Quality: 0.0
- LERC Error: 0.0
- Origin: X: -5120900.0
Y: 9998100.0
- Spatial Reference: 32622
(32622)
Storage Info:
- Storage Format: esriMapCacheStorageModeCompactV2
- Packet Size: 128
Extent:
XMin: 494054.9205078529
YMin: 7675972.117175729
XMax: 500629.6115815502
YMax: 7684766.937441014
Spatial Reference: 32622
(32622)
Initial Extent:
XMin: 494054.9205078529
YMin: 7675972.117175729
XMax: 500629.6115815502
YMax: 7684766.937441014
Spatial Reference: 32622
(32622)
Full Extent:
XMin: 494054.9205078529
YMin: 7675972.117175729
XMax: 500629.6115815502
YMax: 7684766.937441014
Spatial Reference: 32622
(32622)
Pixel Size X: 0.01577042713767638
Pixel Size Y: 0.01577042713767638
Band Count: 1
Pixel Type:
RasterFunction Infos: {"rasterFunctionInfos": null}
Mensuration Capabilities:
Has Histograms: false
Has Colormap: false
Has Multi Dimensions : false
Rendering Rule:
Min Scale: 250000000
Max Scale: 59.604644775390625
Min LOD: 0
Max LOD: 22
Copyright Text: N/A
Service Data Type: esriImageServiceDataTypeElevation
Min Values: N/A
Max Values: N/A
Mean Values: N/A
Standard Deviation Values: N/A
Object ID Field: N/A
Fields:
None
Default Mosaic Method: N/A
Allowed Mosaic Methods: N/A
SortField: N/A
SortValue: N/A
Mosaic Operator: N/A
Default Compression Quality: null
Default Resampling Method: N/A
Max Record Count: null
Max Image Height: null
Max Image Width: null
Max Download Image Count: null
Max Mosaic Image Count: null
Allow Raster Function: null
Allow Copy: null
Allow Analysis: null
Allow Compute TiePoints: false
Supports Statistics: false
Supports Advanced Queries: false
Use StandardizedQueries: false
Raster Type Infos:
None
Has Raster Attribute Table: null
Edit Fields Info: N/A
Ownership Based AccessControl For Rasters: N/A
Child Resources:
Info