View In:
ArcGIS JavaScript
ArcGIS Online Map Viewer
ArcGIS Earth
ArcGIS Pro
Service Description:
Map Name: Map
Legend
All Layers and Tables
Layers:
Description:
Service Item Id: a825be84ff0a4a699158b29b36a84af7
Copyright Text:
Spatial Reference:
32624
(32624)
Single Fused Map Cache: true
Tile Info:
- Height: 256
- Width: 256
- DPI: 96
-
Levels of Detail: 23
-
Level ID: 16
[ Start Tile, End Tile ]
- Resolution: 1.0093073368112884
- Scale: 3814.697265625
-
Level ID: 17
[ Start Tile, End Tile ]
- Resolution: 0.5046536684056442
- Scale: 1907.3486328125
-
Level ID: 18
[ Start Tile, End Tile ]
- Resolution: 0.2523268342028221
- Scale: 953.67431640625
-
Level ID: 19
[ Start Tile, End Tile ]
- Resolution: 0.12616341710141105
- Scale: 476.837158203125
-
Level ID: 20
[ Start Tile, End Tile ]
- Resolution: 0.06308170855070565
- Scale: 238.418579101563
-
Level ID: 21
[ Start Tile, End Tile ]
- Resolution: 0.03154085427535269
- Scale: 119.209289550781
-
Level ID: 22
[ Start Tile, End Tile ]
- Resolution: 0.01577042713767638
- Scale: 59.604644775390625
- Format: MIXED
- Compression Quality: 75.0
- Origin: X: -5120900.0
Y: 9998100.0
- Spatial Reference: 32624
(32624)
Storage Info:
- Storage Format: esriMapCacheStorageModeCompactV2
- Packet Size: 128
Initial Extent:
XMin: 205766.5335586716
YMin: 6679168.655587014
XMax: 207709.40663803683
YMax: 6680782.025587015
Spatial Reference: 32624
(32624)
Full Extent:
XMin: 206345.17009835423
YMin: 6679241.990587015
XMax: 207130.77009835423
YMax: 6680708.690587015
Spatial Reference: 32624
(32624)
Units: esriMeters
Supported Image Format Types: PNG32,PNG24,PNG,JPG,DIB,TIFF,EMF,PS,PDF,GIF,SVG,SVGZ,BMP
Document Info:
Title: C:\Users\mre\Documents\ArcGIS\Projects\ORTOFOTOS_RASTER\ORTOFOTOS_RASTER.aprx
Author:
Comments:
Subject:
Category:
Keywords:
AntialiasingMode: None
TextAntialiasingMode: Force
Supports Dynamic Layers: false
MaxRecordCount: 1000
MaxImageHeight: 4096
MaxImageWidth: 4096
Supported Query Formats: JSON, geoJSON, PBF
Supports Query Data Elements: true
Min Scale: 250000000
Max Scale: 59
Min LOD: 0
Max LOD: 22
Supports Datum Transformation: true
Child Resources:
Info
Supported Operations:
QueryLegends
Return Updates