View In:
ArcGIS JavaScript
ArcGIS Online Map Viewer
ArcGIS Earth
Service Description: klimadata
Name: klimadata
Description:
Single Fused Map Cache: false
Extent:
XMin: -289000
YMin: 6607000
XMax: 1156000
YMax: 9312000
Spatial Reference: 32624
(32624)
Initial Extent:
XMin: -289000
YMin: 6607000
XMax: 1156000
YMax: 9312000
Spatial Reference: 32624
(32624)
Full Extent:
XMin: -289000
YMin: 6607000
XMax: 1156000
YMax: 9312000
Spatial Reference: 32624
(32624)
Pixel Size X: 5000.0
Pixel Size Y: 5000.0
Band Count: 1
Pixel Type: F32
RasterFunction Infos: {"rasterFunctionInfos": [
{
"name": "None",
"description": "Make a Raster or Raster Dataset into a Function Raster Dataset.",
"help": ""
},
{
"name": "index010",
"description": "A raster function template.",
"help": ""
},
{
"name": "index052",
"description": "A raster function template.",
"help": ""
},
{
"name": "index001diff",
"description": "A raster function template.",
"help": ""
},
{
"name": "index002diff",
"description": "A raster function template.",
"help": ""
},
{
"name": "index003diff",
"description": "A raster function template.",
"help": ""
},
{
"name": "index004diff",
"description": "A raster function template.",
"help": ""
},
{
"name": "index005diff",
"description": "A raster function template.",
"help": ""
},
{
"name": "index006diff",
"description": "A raster function template.",
"help": ""
},
{
"name": "index010diff",
"description": "A raster function template.",
"help": ""
},
{
"name": "index011diff",
"description": "A raster function template.",
"help": ""
},
{
"name": "index013diff",
"description": "A raster function template.",
"help": ""
},
{
"name": "index014diff",
"description": "A raster function template.",
"help": ""
},
{
"name": "index018diff",
"description": "A raster function template.",
"help": ""
},
{
"name": "index019diff",
"description": "A raster function template.",
"help": ""
},
{
"name": "index020diff",
"description": "A raster function template.",
"help": ""
},
{
"name": "index021diff",
"description": "A raster function template.",
"help": ""
},
{
"name": "index022diff",
"description": "A raster function template.",
"help": ""
},
{
"name": "index023diff",
"description": "A raster function template.",
"help": ""
},
{
"name": "index024diff",
"description": "A raster function template.",
"help": ""
},
{
"name": "index026diff",
"description": "A raster function template.",
"help": ""
},
{
"name": "index030diff",
"description": "A raster function template.",
"help": ""
},
{
"name": "index031diff",
"description": "A raster function template.",
"help": ""
},
{
"name": "index032diff",
"description": "A raster function template.",
"help": ""
},
{
"name": "index045diff",
"description": "A raster function template.",
"help": ""
},
{
"name": "index048diff",
"description": "A raster function template.",
"help": ""
},
{
"name": "index050diff",
"description": "A raster function template.",
"help": ""
},
{
"name": "index052diff",
"description": "A raster function template.",
"help": ""
},
{
"name": "index057diff",
"description": "A raster function template.",
"help": ""
},
{
"name": "index066diff",
"description": "A raster function template.",
"help": ""
},
{
"name": "index017diff",
"description": "A raster function template.",
"help": ""
},
{
"name": "index001",
"description": "A raster function template.",
"help": ""
},
{
"name": "index002",
"description": "A raster function template.",
"help": ""
},
{
"name": "index003",
"description": "A raster function template.",
"help": ""
},
{
"name": "index004",
"description": "A raster function template.",
"help": ""
},
{
"name": "index005",
"description": "A raster function template.",
"help": ""
},
{
"name": "index006",
"description": "A raster function template.",
"help": ""
},
{
"name": "index011",
"description": "A raster function template.",
"help": ""
},
{
"name": "index013",
"description": "A raster function template.",
"help": ""
},
{
"name": "index014",
"description": "A raster function template.",
"help": ""
},
{
"name": "index017",
"description": "A raster function template.",
"help": ""
},
{
"name": "index018",
"description": "A raster function template.",
"help": ""
},
{
"name": "index019",
"description": "A raster function template.",
"help": ""
},
{
"name": "index020",
"description": "A raster function template.",
"help": ""
},
{
"name": "index021",
"description": "A raster function template.",
"help": ""
},
{
"name": "index022",
"description": "A raster function template.",
"help": ""
},
{
"name": "index023",
"description": "A raster function template.",
"help": ""
},
{
"name": "index024",
"description": "A raster function template.",
"help": ""
},
{
"name": "index026",
"description": "A raster function template.",
"help": ""
},
{
"name": "index030",
"description": "A raster function template.",
"help": ""
},
{
"name": "index031",
"description": "A raster function template.",
"help": ""
},
{
"name": "index032",
"description": "A raster function template.",
"help": ""
},
{
"name": "index045",
"description": "A raster function template.",
"help": ""
},
{
"name": "index048",
"description": "A raster function template.",
"help": ""
},
{
"name": "index049",
"description": "A raster function template.",
"help": ""
},
{
"name": "index050",
"description": "A raster function template.",
"help": ""
},
{
"name": "index057",
"description": "A raster function template.",
"help": ""
},
{
"name": "index066",
"description": "A raster function template.",
"help": ""
}
]}
Mensuration Capabilities: Basic
Has Histograms: true
Has Colormap: false
Has Multi Dimensions : false
Rendering Rule:
Min Scale: 0
Max Scale: 0
Copyright Text:
Service Data Type: esriImageServiceDataTypeGeneric
Min Values: -9.55889892578125
Max Values: 1.429443359375
Mean Values: -1.5918083588759553
Standard Deviation Values: 1.0256759573950374
Object ID Field: OBJECTID
Fields:
-
OBJECTID
(
type: esriFieldTypeOID, alias: OBJECTID
)
-
Shape
(
type: esriFieldTypeGeometry, alias: Shape
)
-
Name
(
type: esriFieldTypeString, alias: Name, length: 200
)
-
MinPS
(
type: esriFieldTypeDouble, alias: MinPS
)
-
MaxPS
(
type: esriFieldTypeDouble, alias: MaxPS
)
-
LowPS
(
type: esriFieldTypeDouble, alias: LowPS
)
-
HighPS
(
type: esriFieldTypeDouble, alias: HighPS
)
-
Category
(
type: esriFieldTypeInteger, alias: Category
,
Coded Values:
[0: Unknown]
,
[1: Primary]
,
[2: Overview]
, ...6 more...
)
-
Tag
(
type: esriFieldTypeString, alias: Tag, length: 100
)
-
GroupName
(
type: esriFieldTypeString, alias: GroupName, length: 100
)
-
ProductName
(
type: esriFieldTypeString, alias: ProductName, length: 100
)
-
CenterX
(
type: esriFieldTypeDouble, alias: CenterX
)
-
CenterY
(
type: esriFieldTypeDouble, alias: CenterY
)
-
ZOrder
(
type: esriFieldTypeInteger, alias: ZOrder
)
-
Shape_Length
(
type: esriFieldTypeDouble, alias: Shape_Length
)
-
Shape_Area
(
type: esriFieldTypeDouble, alias: Shape_Area
)
-
index
(
type: esriFieldTypeInteger, alias: index
)
-
index_text_da
(
type: esriFieldTypeString, alias: index_text_da, length: 255
)
-
index_description_da
(
type: esriFieldTypeString, alias: index_description_da, length: 500
)
-
index_category_da
(
type: esriFieldTypeString, alias: index_category_da, length: 255
)
-
index_text_en
(
type: esriFieldTypeString, alias: index_text_en, length: 255
)
-
index_description_en
(
type: esriFieldTypeString, alias: index_description_en, length: 500
)
-
index_category_en
(
type: esriFieldTypeString, alias: index_category_en, length: 255
)
-
index_text_gl
(
type: esriFieldTypeString, alias: index_text_gl, length: 255
)
-
index_description_gl
(
type: esriFieldTypeString, alias: index_description_gl, length: 500
)
-
index_category_gl
(
type: esriFieldTypeString, alias: index_category_gl, length: 255
)
-
index_type
(
type: esriFieldTypeString, alias: index_type, length: 255
)
-
index_type_text
(
type: esriFieldTypeString, alias: index_type_text, length: 255
)
-
index_period
(
type: esriFieldTypeString, alias: index_period, length: 255
)
-
is_climate_index
(
type: esriFieldTypeSmallInteger, alias: is_climate_index
)
-
scale
(
type: esriFieldTypeString, alias: scale, length: 255
)
-
interval
(
type: esriFieldTypeString, alias: interval, length: 255
)
-
unit
(
type: esriFieldTypeString, alias: unit, length: 255
)
-
time4_5
(
type: esriFieldTypeSmallInteger, alias: time4_5
)
-
time8_5
(
type: esriFieldTypeSmallInteger, alias: time8_5
)
Default Mosaic Method: Northwest
Allowed Mosaic Methods: NorthWest,Center,LockRaster,ByAttribute,Nadir,Viewpoint,Seamline,None
SortField:
SortValue: null
Mosaic Operator: First
Default Compression Quality: 75
Default Resampling Method: Bilinear
Max Record Count: 1000
Max Image Height: 4100
Max Image Width: 15000
Max Download Image Count: 20
Max Mosaic Image Count: 20
Allow Raster Function: true
Allow Copy: true
Allow Analysis: true
Allow Compute TiePoints: false
Supports Statistics: true
Supports Advanced Queries: true
Use StandardizedQueries: true
Raster Type Infos:
Name: Raster Dataset
Description: Supports all ArcGIS Raster Datasets
Help:
Has Raster Attribute Table: false
Edit Fields Info: null
Ownership Based AccessControl For Rasters: null
Child Resources:
Info
Histograms
Statistics
Key Properties
Legend
Raster Function Infos
Supported Operations:
Export Image
Query
Identify
Measure
Compute Histograms
Compute Statistics Histograms
Get Samples
Compute Class Statistics
Query Boundary
Compute Pixel Location
Compute Angles
Validate
Project