{
 "version": 1.0,
 "tileBundlesPath": "./tile",
 "tileInfo": {
  "spatialReference": {
   "wkid": 32622,
   "latestWkid": 32622,
   "vcsWkid": 5773,
   "latestVcsWkid": 5773
  },
  "origin": {
   "x": -5120900,
   "y": 9998100
  },
  "rows": 256,
  "cols": 256,
  "dpi": 96,
  "lods": [
   {
    "level": 0,
    "resolution": 8466.683600033868,
    "scale": 32000000
   },
   {
    "level": 1,
    "resolution": 4233.341800016934,
    "scale": 16000000
   },
   {
    "level": 2,
    "resolution": 2116.670900008467,
    "scale": 8000000
   },
   {
    "level": 3,
    "resolution": 1058.3354500042335,
    "scale": 4000000
   },
   {
    "level": 4,
    "resolution": 529.1677250021168,
    "scale": 2000000
   },
   {
    "level": 5,
    "resolution": 264.5838625010584,
    "scale": 1000000
   },
   {
    "level": 6,
    "resolution": 132.2919312505292,
    "scale": 500000
   },
   {
    "level": 7,
    "resolution": 66.1459656252646,
    "scale": 250000
   },
   {
    "level": 8,
    "resolution": 33.0729828126323,
    "scale": 125000
   },
   {
    "level": 9,
    "resolution": 16.53649140631615,
    "scale": 62500
   }
  ],
  "format": "LERC",
  "compressionQuality": 0,
  "bandCount": 1,
  "lercError": 0,
  "storageFormat": "esriMapCacheStorageModeCompactV2",
  "packetSize": 128
 },
 "storageInfo": {
  "packetSize": 128,
  "storageFormat": "esriMapCacheStorageModeCompactV2"
 },
 "tileImageInfo": {
  "format": "LERC",
  "compressionQuality": 0,
  "bandCount": 1,
  "lercError": 0.1
 },
 "name": "dtm_orto_22N",
 "minScale": 32000000,
 "maxScale": 62500,
 "minLOD": 0,
 "maxLOD": 9,
 "spatialReference": {
  "wkid": 32622,
  "latestWkid": 32622,
  "vcsWkid": 5773,
  "latestVcsWkid": 5773
 },
 "units": "esriMeters",
 "serviceDescription": "",
 "resampling": true,
 "exportTilesAllowed": false,
 "initialExtent": {
  "xmin": 519035.7590381857,
  "ymin": 6812477.222504445,
  "xmax": 661679.5339090688,
  "ymax": 6955120.997375328,
  "spatialReference": {
   "wkid": 32622,
   "latestWkid": 32622,
   "vcsWkid": 5773,
   "latestVcsWkid": 5773
  }
 },
 "fullExtent": {
  "xmin": 519035.7590381857,
  "ymin": 6812477.222504445,
  "xmax": 661679.5339090688,
  "ymax": 6955120.997375328,
  "spatialReference": {
   "wkid": 32622,
   "latestWkid": 32622,
   "vcsWkid": 5773,
   "latestVcsWkid": 5773
  }
 },
 "currentVersion": 11.1,
 "mapName": "dtm_orto_22N",
 "singleFusedMapCache": true,
 "type": "ImageServer",
 "capabilities": "Image,TilesOnly,Tilemap",
 "datasetFormat": "Cache/LERC",
 "compressionType": "LERC",
 "serviceDataType": "esriImageServiceDataTypeElevation",
 "cacheType": "Elevation",
 "blockWidth": 256,
 "blockHeight": 256,
 "bandCount": 1,
 "pixelSizeX": 16.53649140631615,
 "pixelSizeY": 16.53649140631615,
 "minPixelSize": 16.53649140631615,
 "maxPixelSize": 8466.683600033868
}
