View In:
ArcGIS JavaScript
ArcGIS Online Map Viewer
ArcGIS Earth
Service Description:
Name: dtm_orto_22N
Description: N/A
Single Fused Map Cache: true
Tile Info:
- Height: 256
- Width: 256
- DPI: 96
-
Levels of Detail: 10
- Format: LERC
- Compression Quality: 0.0
- LERC Error: 0.0
- Origin: X: -5120900.0
Y: 9998100.0
- Spatial Reference: 32622
(32622)
VCSWkid(5773)
LatestVCSWkid(5773)
Storage Info:
- Storage Format: esriMapCacheStorageModeCompactV2
- Packet Size: 128
Extent:
XMin: 519035.7590381857
YMin: 6812477.222504445
XMax: 661679.5339090688
YMax: 6955120.997375328
Spatial Reference: 32622
(32622)
VCSWkid(5773)
LatestVCSWkid(5773)
Initial Extent:
XMin: 519035.7590381857
YMin: 6812477.222504445
XMax: 661679.5339090688
YMax: 6955120.997375328
Spatial Reference: 32622
(32622)
VCSWkid(5773)
LatestVCSWkid(5773)
Full Extent:
XMin: 519035.7590381857
YMin: 6812477.222504445
XMax: 661679.5339090688
YMax: 6955120.997375328
Spatial Reference: 32622
(32622)
VCSWkid(5773)
LatestVCSWkid(5773)
Pixel Size X: 16.53649140631615
Pixel Size Y: 16.53649140631615
Band Count: 1
Pixel Type:
RasterFunction Infos: {"rasterFunctionInfos": null}
Mensuration Capabilities:
Has Histograms: false
Has Colormap: false
Has Multi Dimensions : false
Rendering Rule:
Min Scale: 32000000
Max Scale: 62500
Min LOD: 0
Max LOD: 9
Copyright Text: N/A
Service Data Type: esriImageServiceDataTypeElevation
Min Values: N/A
Max Values: N/A
Mean Values: N/A
Standard Deviation Values: N/A
Object ID Field: N/A
Fields:
None
Default Mosaic Method: N/A
Allowed Mosaic Methods: N/A
SortField: N/A
SortValue: N/A
Mosaic Operator: N/A
Default Compression Quality: null
Default Resampling Method: N/A
Max Record Count: null
Max Image Height: null
Max Image Width: null
Max Download Image Count: null
Max Mosaic Image Count: null
Allow Raster Function: null
Allow Copy: null
Allow Analysis: null
Allow Compute TiePoints: false
Supports Statistics: false
Supports Advanced Queries: false
Use StandardizedQueries: false
Raster Type Infos:
None
Has Raster Attribute Table: null
Edit Fields Info: N/A
Ownership Based AccessControl For Rasters: N/A
Child Resources:
Info