{
 "version": 1.0,
 "tileBundlesPath": "./tile",
 "storageInfo": {
  "packetSize": 128,
  "storageFormat": "esriMapCacheStorageModeCompactV2"
 },
 "tileImageInfo": {
  "format": "MIXED",
  "compressionQuality": 75,
  "bandCount": 1,
  "lercError": 0
 },
 "tileInfo": {
  "spatialReference": {
   "wkid": 32624,
   "latestWkid": 32624
  },
  "origin": {
   "x": -5120900,
   "y": 9998100
  },
  "rows": 256,
  "cols": 256,
  "dpi": 96,
  "lods": [
   {
    "level": 0,
    "resolution": 66145.9656252646,
    "scale": 250000000
   },
   {
    "level": 1,
    "resolution": 33072.9828126323,
    "scale": 125000000
   },
   {
    "level": 2,
    "resolution": 16536.49140631615,
    "scale": 62500000
   },
   {
    "level": 3,
    "resolution": 8268.245703158074,
    "scale": 31250000
   },
   {
    "level": 4,
    "resolution": 4134.122851579037,
    "scale": 15625000
   },
   {
    "level": 5,
    "resolution": 2067.0614257895186,
    "scale": 7812500
   },
   {
    "level": 6,
    "resolution": 1033.5307128947593,
    "scale": 3906250
   },
   {
    "level": 7,
    "resolution": 516.7653564473796,
    "scale": 1953125
   },
   {
    "level": 8,
    "resolution": 258.3826782236898,
    "scale": 976562.5
   },
   {
    "level": 9,
    "resolution": 129.1913391118449,
    "scale": 488281.25
   },
   {
    "level": 10,
    "resolution": 64.59566955592246,
    "scale": 244140.625
   },
   {
    "level": 11,
    "resolution": 32.29783477796123,
    "scale": 122070.3125
   },
   {
    "level": 12,
    "resolution": 16.148917388980614,
    "scale": 61035.15625
   },
   {
    "level": 13,
    "resolution": 8.074458694490307,
    "scale": 30517.578125
   },
   {
    "level": 14,
    "resolution": 4.0372293472451535,
    "scale": 15258.7890625
   },
   {
    "level": 15,
    "resolution": 2.0186146736225767,
    "scale": 7629.39453125
   },
   {
    "level": 16,
    "resolution": 1.0093073368112884,
    "scale": 3814.697265625
   },
   {
    "level": 17,
    "resolution": 0.5046536684056442,
    "scale": 1907.3486328125
   },
   {
    "level": 18,
    "resolution": 0.2523268342028221,
    "scale": 953.67431640625
   },
   {
    "level": 19,
    "resolution": 0.12616341710141105,
    "scale": 476.837158203125
   },
   {
    "level": 20,
    "resolution": 0.06308170855070565,
    "scale": 238.418579101563
   },
   {
    "level": 21,
    "resolution": 0.03154085427535269,
    "scale": 119.209289550781
   },
   {
    "level": 22,
    "resolution": 0.01577042713767638,
    "scale": 59.604644775390625
   }
  ],
  "format": "MIXED",
  "compressionQuality": 75,
  "bandCount": 1,
  "lercError": 0,
  "storageFormat": "esriMapCacheStorageModeCompactV2",
  "packetSize": 128
 },
 "name": "1707QET_dronefoto_2021_10cm_Z24",
 "serviceDescription": "",
 "spatialReference": {
  "wkid": 32624,
  "latestWkid": 32624,
  "xyTolerance": 0.001,
  "zTolerance": 0.001,
  "mTolerance": 0.001,
  "falseX": -5120900,
  "falseY": -9998100,
  "xyUnits": 10000,
  "falseZ": -100000,
  "zUnits": 10000,
  "falseM": -100000,
  "mUnits": 10000
 },
 "units": "esriMeters",
 "minLOD": 0,
 "maxLOD": 22,
 "resampling": true,
 "layers": [
  {
   "id": 0,
   "name": "1707QET_dronefoto_2021_10cm_Z24.jp2",
   "parentLayerId": -1,
   "defaultVisibility": true,
   "subLayerIds": null,
   "minScale": 0,
   "maxScale": 0,
   "type": "Raster Layer",
   "supportsDynamicLegends": true,
   "legend": [
    {
     "label": "Red: Band_1",
     "imageData": "iVBORw0KGgoAAAANSUhEUgAAABQAAAAUCAYAAACNiR0NAAAACXBIWXMAAA7EAAAOxAGVKw4bAAAAOklEQVQ4jWNhoDJgoZmB/8GIfMAIRrR0IbUAC9VMgoJRAykHLFQwAwWMGkg5YBnBBjJCyzOqGUgtAABgfwJTnasaYgAAAABJRU5ErkJggg==",
     "contentType": "image/png",
     "groupId": "0",
     "height": 20,
     "width": 20,
     "layerId": 0,
     "layerName": "1707QET_dronefoto_2021_10cm_Z24.jp2"
    },
    {
     "label": "Green: Band_2",
     "imageData": "iVBORw0KGgoAAAANSUhEUgAAABQAAAAUCAYAAACNiR0NAAAACXBIWXMAAA7EAAAOxAGVKw4bAAAAPElEQVQ4je3UoQ0AMBBCUS5h/5WvpkmDhjr+AE8gIMLxH7hYSxqMgqFY0I4+oRX0Y8CQCvq9De+f5cBQB19+AlPZl25RAAAAAElFTkSuQmCC",
     "contentType": "image/png",
     "groupId": "0",
     "height": 20,
     "width": 20,
     "layerId": 0,
     "layerName": "1707QET_dronefoto_2021_10cm_Z24.jp2"
    },
    {
     "label": "Blue: Band_3",
     "imageData": "iVBORw0KGgoAAAANSUhEUgAAABQAAAAUCAYAAACNiR0NAAAACXBIWXMAAA7EAAAOxAGVKw4bAAAAPElEQVQ4jWNhoDJgoaGB//9TZhQjI5qB1AEsowZSDFgoNwIVjBpIOWChghkoYNRAygFSGELKMyoaSB0AAF59AlO8NYpcAAAAAElFTkSuQmCC",
     "contentType": "image/png",
     "groupId": "0",
     "height": 20,
     "width": 20,
     "layerId": 0,
     "layerName": "1707QET_dronefoto_2021_10cm_Z24.jp2"
    }
   ],
   "layerId": 0,
   "layerName": "1707QET_dronefoto_2021_10cm_Z24.jp2",
   "serviceItemId": "06899e42433040b8bf2b7556623143b8"
  }
 ],
 "initialExtent": {
  "xmin": -146362.06995843537,
  "ymin": 8755846.812845571,
  "xmax": -143187.66995843538,
  "ymax": 8758528.91284557,
  "spatialReference": {
   "wkid": 32624,
   "latestWkid": 32624,
   "xyTolerance": 0.001,
   "zTolerance": 0.001,
   "mTolerance": 0.001,
   "falseX": -5120900,
   "falseY": -9998100,
   "xyUnits": 10000,
   "falseZ": -100000,
   "zUnits": 10000,
   "falseM": -100000,
   "mUnits": 10000
  }
 },
 "fullExtent": {
  "xmin": -146362.06995843537,
  "ymin": 8755846.812845571,
  "xmax": -143187.66995843538,
  "ymax": 8758528.91284557,
  "spatialReference": {
   "wkid": 32624,
   "latestWkid": 32624,
   "xyTolerance": 0.001,
   "zTolerance": 0.001,
   "mTolerance": 0.001,
   "falseX": -5120900,
   "falseY": -9998100,
   "xyUnits": 10000,
   "falseZ": -100000,
   "zUnits": 10000,
   "falseM": -100000,
   "mUnits": 10000
  }
 },
 "minScale": 0,
 "maxScale": 0,
 "exportTilesAllowed": false,
 "maxExportTilesCount": 0,
 "currentVersion": 11.1,
 "mapName": "1707QET_dronefoto_2021_10cm_Z24",
 "singleFusedMapCache": true,
 "type": "MapServer",
 "supportedExtensions": "",
 "capabilities": "TilesOnly,Tilemap",
 "serviceItemId": "06899e42433040b8bf2b7556623143b8"
}
