{
 "currentVersion": 11.5,
 "serviceDescription": "Ortofoto/Byortofotos",
 "serviceItemId": "f994a70bb74646f78cb7bac779ae7779",
 "name": "Ortofoto/Byortofotos",
 "description": "",
 "extent": {
  "xmin": -255481.26159999985,
  "ymin": 6664942.683317523,
  "xmax": 1130757.2383887954,
  "ymax": 8833206.083299998,
  "spatialReference": {
   "wkid": 3184,
   "latestWkid": 3184
  }
 },
 "initialExtent": {
  "xmin": -255481.26159999985,
  "ymin": 6664942.683317523,
  "xmax": 1130757.2383887954,
  "ymax": 8833206.083299998,
  "spatialReference": {
   "wkid": 3184,
   "latestWkid": 3184
  }
 },
 "fullExtent": {
  "xmin": -255481.26159999985,
  "ymin": 6664942.683317523,
  "xmax": 1130757.2383887954,
  "ymax": 8833206.083299998,
  "spatialReference": {
   "wkid": 3184,
   "latestWkid": 3184
  }
 },
 "sortableFields": "MinPS,MaxPS,LowPS,HighPS,CenterX,CenterY,ZOrder,Shape_Length,Shape_Area",
 "bandCount": 4,
 "pixelType": "U8",
 "minValues": [],
 "maxValues": [],
 "meanValues": [],
 "stdvValues": [],
 "serviceProperties": "NorthWest<\/MosaicMethod>First<\/MosaicOperator>true<\/SortAscending><\/LockImageID>Name<\/TileOrderField>0<\/TileOrderBase>600,000000<\/AvgImageSpacingX>300,000000<\/AvgImageSpacingY>0.0<\/ViewPointX>0.0<\/ViewPointY>0.0<\/ViewPointDefShiftX>0.0<\/ViewPointDefShiftY>None<\/CompressionMethod>75<\/CompressionQuality>0,010000<\/CompressionTolerance>Bilinear<\/SamplingMethod><\/ImageServiceProperties><\/ImageServer>",
 "allowedFields": "Name,MinPS,MaxPS,LowPS,HighPS,Tag,GroupName,ProductName,CenterX,CenterY,ZOrder,Shape_Length,Shape_Area",
 "hasMultidimensions": false,
 "pixelSizeX": 0.09999999999919172,
 "pixelSizeY": 0.09999999999919174,
 "meanPixelSize": 0.09999999999919174,
 "datasetFormat": "AMD",
 "uncompressedSize": 1202292081288360,
 "blockWidth": 2048,
 "blockHeight": 256,
 "compressionType": "None",
 "bandNames": [
  "Band_1",
  "Band_2",
  "Band_3",
  "Band_4"
 ],
 "allowCopy": true,
 "allowAnalysis": true,
 "itemAccess": false,
 "inspectionCapabilities": "",
 "minPixelSize": 0,
 "maxPixelSize": 26.458386250105836,
 "copyrightText": "© Asiaq",
 "serviceDataType": "esriImageServiceDataTypeGeneric",
 "serviceSourceType": "esriImageServiceSourceTypeMosaicDataset",
 "objectIdField": "OBJECTID",
 "fields": [
  {
   "name": "OBJECTID",
   "type": "esriFieldTypeOID",
   "alias": "OBJECTID",
   "domain": null
  },
  {
   "name": "Shape",
   "type": "esriFieldTypeGeometry",
   "alias": "Shape",
   "domain": null
  },
  {
   "name": "Name",
   "type": "esriFieldTypeString",
   "alias": "Name",
   "domain": null,
   "length": 200
  },
  {
   "name": "MinPS",
   "type": "esriFieldTypeDouble",
   "alias": "MinPS",
   "domain": null
  },
  {
   "name": "MaxPS",
   "type": "esriFieldTypeDouble",
   "alias": "MaxPS",
   "domain": null
  },
  {
   "name": "LowPS",
   "type": "esriFieldTypeDouble",
   "alias": "LowPS",
   "domain": null
  },
  {
   "name": "HighPS",
   "type": "esriFieldTypeDouble",
   "alias": "HighPS",
   "domain": null
  },
  {
   "name": "Category",
   "type": "esriFieldTypeInteger",
   "alias": "Category",
   "domain": {
    "type": "codedValue",
    "name": "MosaicCatalogItemCategoryDomain",
    "description": "Catalog item categories.",
    "codedValues": [
     {
      "name": "Unknown",
      "code": 0
     },
     {
      "name": "Primary",
      "code": 1
     },
     {
      "name": "Overview",
      "code": 2
     },
     {
      "name": "Unprocessed Overview",
      "code": 3
     },
     {
      "name": "Partial Overview",
      "code": 4
     },
     {
      "name": "Inactive",
      "code": 5
     },
     {
      "name": "Uploaded",
      "code": 253
     },
     {
      "name": "Incomplete",
      "code": 254
     },
     {
      "name": "Custom",
      "code": 255
     }
    ],
    "mergePolicy": "esriMPTDefaultValue",
    "splitPolicy": "esriSPTDefaultValue"
   }
  },
  {
   "name": "Tag",
   "type": "esriFieldTypeString",
   "alias": "Tag",
   "domain": null,
   "length": 100
  },
  {
   "name": "GroupName",
   "type": "esriFieldTypeString",
   "alias": "GroupName",
   "domain": null,
   "length": 100
  },
  {
   "name": "ProductName",
   "type": "esriFieldTypeString",
   "alias": "ProductName",
   "domain": null,
   "length": 100
  },
  {
   "name": "CenterX",
   "type": "esriFieldTypeDouble",
   "alias": "CenterX",
   "domain": null
  },
  {
   "name": "CenterY",
   "type": "esriFieldTypeDouble",
   "alias": "CenterY",
   "domain": null
  },
  {
   "name": "ZOrder",
   "type": "esriFieldTypeInteger",
   "alias": "ZOrder",
   "domain": null
  },
  {
   "name": "Shape_Length",
   "type": "esriFieldTypeDouble",
   "alias": "Shape_Length",
   "domain": null
  },
  {
   "name": "Shape_Area",
   "type": "esriFieldTypeDouble",
   "alias": "Shape_Area",
   "domain": null
  }
 ],
 "capabilities": "Mensuration,Image,Metadata",
 "defaultMosaicMethod": "Northwest",
 "allowedMosaicMethods": "NorthWest,Center,LockRaster,ByAttribute,Nadir,Viewpoint,Seamline,None",
 "sortField": "",
 "sortValue": null,
 "sortAscending": true,
 "mosaicOperator": "First",
 "maxDownloadSizeLimit": 2048,
 "defaultCompressionQuality": 75,
 "defaultResamplingMethod": "Bilinear",
 "maxImageHeight": 4100,
 "maxImageWidth": 15000,
 "maxRecordCount": 1000,
 "maxDownloadImageCount": 20,
 "maxMosaicImageCount": 20,
 "singleFusedMapCache": true,
 "tileInfo": {
  "rows": 256,
  "cols": 256,
  "dpi": 96,
  "format": "MIXED",
  "compressionQuality": 75,
  "origin": {
   "x": -5120900,
   "y": 9998100
  },
  "spatialReference": {
   "wkid": 3184,
   "latestWkid": 3184
  },
  "lods": [
   {
    "level": 0,
    "resolution": 108373.5500804335,
    "scale": 409600000
   },
   {
    "level": 1,
    "resolution": 54186.77504021675,
    "scale": 204800000
   },
   {
    "level": 2,
    "resolution": 27093.387520108376,
    "scale": 102400000
   },
   {
    "level": 3,
    "resolution": 13546.693760054188,
    "scale": 51200000
   },
   {
    "level": 4,
    "resolution": 6773.346880027094,
    "scale": 25600000
   },
   {
    "level": 5,
    "resolution": 3386.673440013547,
    "scale": 12800000
   },
   {
    "level": 6,
    "resolution": 1693.3367200067735,
    "scale": 6400000
   },
   {
    "level": 7,
    "resolution": 846.6683600033867,
    "scale": 3200000
   },
   {
    "level": 8,
    "resolution": 423.33418000169337,
    "scale": 1600000
   },
   {
    "level": 9,
    "resolution": 211.66709000084668,
    "scale": 800000
   },
   {
    "level": 10,
    "resolution": 105.83354500042334,
    "scale": 400000
   },
   {
    "level": 11,
    "resolution": 52.91677250021167,
    "scale": 200000
   },
   {
    "level": 12,
    "resolution": 26.458386250105836,
    "scale": 100000
   },
   {
    "level": 13,
    "resolution": 13.229193125052918,
    "scale": 50000
   },
   {
    "level": 14,
    "resolution": 6.614596562526459,
    "scale": 25000
   },
   {
    "level": 15,
    "resolution": 3.3072982812632294,
    "scale": 12500
   },
   {
    "level": 16,
    "resolution": 1.6536491406316147,
    "scale": 6250
   },
   {
    "level": 17,
    "resolution": 0.8268245703158074,
    "scale": 3125
   },
   {
    "level": 18,
    "resolution": 0.4134122851579037,
    "scale": 1562.5
   },
   {
    "level": 19,
    "resolution": 0.20670614257895184,
    "scale": 781.25
   },
   {
    "level": 20,
    "resolution": 0.10335307128947592,
    "scale": 390.625
   },
   {
    "level": 21,
    "resolution": 0.05167653564473796,
    "scale": 195.3125
   }
  ]
 },
 "storageInfo": {
  "storageFormat": "esriMapCacheStorageModeCompactV2",
  "packetSize": 128
 },
 "cacheType": "Map",
 "allowRasterFunction": true,
 "rasterFunctionInfos": [
  {
   "name": "None",
   "description": "",
   "help": ""
  }
 ],
 "rasterTypeInfos": [
  {
   "name": "Raster Dataset",
   "description": "Supports all ArcGIS Raster Datasets",
   "help": ""
  }
 ],
 "mensurationCapabilities": "Basic",
 "hasHistograms": false,
 "hasColormap": false,
 "hasRasterAttributeTable": false,
 "minScale": 100000,
 "maxScale": 0,
 "exportTilesAllowed": false,
 "supportsStatistics": true,
 "supportsAdvancedQueries": true,
 "editFieldsInfo": null,
 "ownershipBasedAccessControlForRasters": null,
 "allowComputeTiePoints": false,
 "useStandardizedQueries": true,
 "advancedQueryCapabilities": {
  "useStandardizedQueries": true,
  "supportsStatistics": true,
  "supportsOrderBy": true,
  "supportsDistinct": true,
  "supportsPagination": true
 },
 "spatialReference": {
  "wkid": 3184,
  "latestWkid": 3184
 },
 "resampling": true
}
