{
 "currentVersion": 11.5,
 "cimVersion": "3.5.0",
 "serviceDescription": "",
 "mapName": "Map",
 "description": "",
 "copyrightText": "",
 "supportsDynamicLayers": false,
 "layers": [
  {
   "id": 0,
   "name": "Aabent Land",
   "parentLayerId": -1,
   "defaultVisibility": true,
   "subLayerIds": null,
   "minScale": 0,
   "maxScale": 0,
   "type": "Feature Layer",
   "geometryType": "esriGeometryPolygon",
   "supportsDynamicLegends": true
  }
 ],
 "tables": [],
 "spatialReference": {
  "wkid": 32624,
  "latestWkid": 32624,
  "xyTolerance": 0.001,
  "zTolerance": 0.001,
  "mTolerance": 0.001,
  "falseX": -5120900,
  "falseY": -9998100,
  "xyUnits": 10000,
  "falseZ": -100000,
  "zUnits": 10000,
  "falseM": -100000,
  "mUnits": 10000
 },
 "singleFusedMapCache": true,
 "tileInfo": {
  "rows": 256,
  "cols": 256,
  "dpi": 96,
  "format": "MIXED",
  "compressionQuality": 75,
  "origin": {
   "x": -5120900,
   "y": 9998100
  },
  "spatialReference": {
   "wkid": 32624,
   "latestWkid": 32624,
   "xyTolerance": 0.001,
   "zTolerance": 0.001,
   "mTolerance": 0.001,
   "falseX": -5120900,
   "falseY": -9998100,
   "xyUnits": 4.504455473910538E8,
   "falseZ": -100000,
   "zUnits": 10000,
   "falseM": -100000,
   "mUnits": 10000
  },
  "lods": [
   {
    "level": 0,
    "resolution": 66145.9656252646,
    "scale": 250000000
   },
   {
    "level": 1,
    "resolution": 33072.9828126323,
    "scale": 125000000
   },
   {
    "level": 2,
    "resolution": 16536.49140631615,
    "scale": 62500000
   },
   {
    "level": 3,
    "resolution": 8268.245703158074,
    "scale": 31250000
   },
   {
    "level": 4,
    "resolution": 4134.122851579037,
    "scale": 15625000
   },
   {
    "level": 5,
    "resolution": 2067.0614257895186,
    "scale": 7812500
   },
   {
    "level": 6,
    "resolution": 1033.5307128947593,
    "scale": 3906250
   },
   {
    "level": 7,
    "resolution": 516.7653564473796,
    "scale": 1953125
   },
   {
    "level": 8,
    "resolution": 258.3826782236898,
    "scale": 976562.5
   },
   {
    "level": 9,
    "resolution": 129.1913391118449,
    "scale": 488281.25
   },
   {
    "level": 10,
    "resolution": 64.59566955592246,
    "scale": 244140.625
   },
   {
    "level": 11,
    "resolution": 32.29783477796123,
    "scale": 122070.3125
   },
   {
    "level": 12,
    "resolution": 16.148917388980614,
    "scale": 61035.15625
   },
   {
    "level": 13,
    "resolution": 8.074458694490307,
    "scale": 30517.578125
   },
   {
    "level": 14,
    "resolution": 4.0372293472451535,
    "scale": 15258.7890625
   },
   {
    "level": 15,
    "resolution": 2.0186146736225767,
    "scale": 7629.39453125
   },
   {
    "level": 16,
    "resolution": 1.0093073368112884,
    "scale": 3814.697265625
   },
   {
    "level": 17,
    "resolution": 0.5046536684056442,
    "scale": 1907.3486328125
   },
   {
    "level": 18,
    "resolution": 0.2523268342028221,
    "scale": 953.67431640625
   },
   {
    "level": 19,
    "resolution": 0.12616341710141105,
    "scale": 476.837158203125
   },
   {
    "level": 20,
    "resolution": 0.06308170855070565,
    "scale": 238.418579101563
   },
   {
    "level": 21,
    "resolution": 0.03154085427535269,
    "scale": 119.209289550781
   },
   {
    "level": 22,
    "resolution": 0.01577042713767638,
    "scale": 59.604644775390625
   }
  ]
 },
 "storageInfo": {
  "storageFormat": "esriMapCacheStorageModeCompactV2",
  "packetSize": 128
 },
 "initialExtent": {
  "xmin": -1889458.811437847,
  "ymin": 6468579.604800001,
  "xmax": 2704432.3786378466,
  "ymax": 9459892.1048,
  "spatialReference": {
   "wkid": 32624,
   "latestWkid": 32624,
   "xyTolerance": 0.001,
   "zTolerance": 0.001,
   "mTolerance": 0.001,
   "falseX": -5120900,
   "falseY": -9998100,
   "xyUnits": 10000,
   "falseZ": -100000,
   "zUnits": 10000,
   "falseM": -100000,
   "mUnits": 10000
  }
 },
 "fullExtent": {
  "xmin": -354000.71640000027,
  "ymin": 6604548.354800001,
  "xmax": 1168974.2835999997,
  "ymax": 9323923.3548,
  "zmin": -1367,
  "zmax": 0,
  "mmin": null,
  "mmax": null,
  "spatialReference": {
   "wkid": 32624,
   "latestWkid": 32624,
   "xyTolerance": 0.001,
   "zTolerance": 0.001,
   "mTolerance": 0.001,
   "falseX": -5120900,
   "falseY": -9998100,
   "xyUnits": 10000,
   "falseZ": -100000,
   "zUnits": 10000,
   "falseM": -100000,
   "mUnits": 10000
  }
 },
 "datesInUnknownTimezone": false,
 "minScale": 31250000,
 "maxScale": 1,
 "units": "esriMeters",
 "supportedImageFormatTypes": "PNG32,PNG24,PNG,JPG,DIB,TIFF,EMF,PS,PDF,GIF,SVG,SVGZ,BMP",
 "documentInfo": {
  "Title": "Map",
  "Author": "",
  "Comments": "",
  "Subject": "",
  "Category": "",
  "Version": "2.9.0",
  "AntialiasingMode": "Fast",
  "TextAntialiasingMode": "Force",
  "Keywords": "KDS"
 },
 "supportsQueryDomains": true,
 "capabilities": "Map",
 "supportedQueryFormats": "JSON, geoJSON, PBF",
 "exportTilesAllowed": false,
 "referenceScale": 0.0,
 "supportsDatumTransformation": true,
 "archivingInfo": {
  "supportsHistoricMoment": false
 },
 "supportsClipping": true,
 "supportsSpatialFilter": true,
 "supportsTimeRelation": true,
 "supportsQueryDataElements": true,
 "mapUnits": {
  "uwkid": 9001
 },
 "maxSelectionCount": 2000,
 "maxRecordCount": 2000,
 "maxImageHeight": 4096,
 "maxImageWidth": 4096,
 "supportedExtensions": "WMSServer",
 "resampling": true,
 "serviceItemId": "7b1b4e2591334b8587c2e4a646460c12"
}
